BEGIN:VCALENDAR
VERSION:2.0
PRODID:-//Through The Roof Ministries - ECPv6.15.11//NONSGML v1.0//EN
CALSCALE:GREGORIAN
METHOD:PUBLISH
X-WR-CALNAME:Through The Roof Ministries
X-ORIGINAL-URL:https://ttrministries.ca
X-WR-CALDESC:Events for Through The Roof Ministries
REFRESH-INTERVAL;VALUE=DURATION:PT1H
X-Robots-Tag:noindex
X-PUBLISHED-TTL:PT1H
BEGIN:VTIMEZONE
TZID:America/Toronto
BEGIN:DAYLIGHT
TZOFFSETFROM:-0500
TZOFFSETTO:-0400
TZNAME:EDT
DTSTART:20230312T070000
END:DAYLIGHT
BEGIN:STANDARD
TZOFFSETFROM:-0400
TZOFFSETTO:-0500
TZNAME:EST
DTSTART:20231105T060000
END:STANDARD
BEGIN:DAYLIGHT
TZOFFSETFROM:-0500
TZOFFSETTO:-0400
TZNAME:EDT
DTSTART:20240310T070000
END:DAYLIGHT
BEGIN:STANDARD
TZOFFSETFROM:-0400
TZOFFSETTO:-0500
TZNAME:EST
DTSTART:20241103T060000
END:STANDARD
BEGIN:DAYLIGHT
TZOFFSETFROM:-0500
TZOFFSETTO:-0400
TZNAME:EDT
DTSTART:20250309T070000
END:DAYLIGHT
BEGIN:STANDARD
TZOFFSETFROM:-0400
TZOFFSETTO:-0500
TZNAME:EST
DTSTART:20251102T060000
END:STANDARD
END:VTIMEZONE
BEGIN:VEVENT
DTSTART;TZID=America/Toronto:20240925T190000
DTEND;TZID=America/Toronto:20240925T200000
DTSTAMP:20260419T143709
CREATED:20240729T190356Z
LAST-MODIFIED:20240729T190356Z
UID:3733-1727290800-1727294400@ttrministries.ca
SUMMARY:Bible Exploration and Prayer with Pastor Joe
DESCRIPTION:Bible Exploration and Prayer with Pastor Joe at TTR \nWednesday nights at 7:00 pm \nCome and enjoy this informal time of sharing the Word of God and friendship with some amazing people!
URL:https://ttrministries.ca/event/bible-exploration-and-prayer-with-pastor-joe-9/
LOCATION:Through The Roof Ministries\, 3662 Flinton Road\, Flinton\, Ontario\, K0H 1P0\, Canada
CATEGORIES:Bible Exploration
ATTACH;FMTTYPE=image/jpeg:https://ttrministries.ca/wp-content/uploads/2022/02/Bible.jpg
ORGANIZER;CN="Pastor Joe":MAILTO:revjoseph.jdj@gmail.com
END:VEVENT
BEGIN:VEVENT
DTSTART;TZID=America/Toronto:20240828T190000
DTEND;TZID=America/Toronto:20240828T200000
DTSTAMP:20260419T143709
CREATED:20240729T190330Z
LAST-MODIFIED:20240729T190330Z
UID:3729-1724871600-1724875200@ttrministries.ca
SUMMARY:Bible Exploration and Prayer with Pastor Joe
DESCRIPTION:Bible Exploration and Prayer with Pastor Joe at TTR \nWednesday nights at 7:00 pm \nCome and enjoy this informal time of sharing the Word of God and friendship with some amazing people!
URL:https://ttrministries.ca/event/bible-exploration-and-prayer-with-pastor-joe-5/
LOCATION:Through The Roof Ministries\, 3662 Flinton Road\, Flinton\, Ontario\, K0H 1P0\, Canada
CATEGORIES:Bible Exploration
ATTACH;FMTTYPE=image/jpeg:https://ttrministries.ca/wp-content/uploads/2022/02/Bible.jpg
ORGANIZER;CN="Pastor Joe":MAILTO:revjoseph.jdj@gmail.com
END:VEVENT
BEGIN:VEVENT
DTSTART;TZID=America/Toronto:20240807T190000
DTEND;TZID=America/Toronto:20240807T200000
DTSTAMP:20260419T143709
CREATED:20240728T193146Z
LAST-MODIFIED:20240728T195309Z
UID:3376-1723057200-1723060800@ttrministries.ca
SUMMARY:Bible Exploration and Prayer with Pastor Joe
DESCRIPTION:Bible Exploration and Prayer with Pastor Joe at TTR \nWednesday nights at 7:00 pm \nCome and enjoy this informal time of sharing the Word of God and friendship with some amazing people!
URL:https://ttrministries.ca/event/bible-exploration-and-prayer-with-pastor-joe/
LOCATION:Through The Roof Ministries\, 3662 Flinton Road\, Flinton\, Ontario\, K0H 1P0\, Canada
CATEGORIES:Bible Exploration
ATTACH;FMTTYPE=image/jpeg:https://ttrministries.ca/wp-content/uploads/2022/02/Bible.jpg
ORGANIZER;CN="Pastor Joe":MAILTO:revjoseph.jdj@gmail.com
END:VEVENT
BEGIN:VEVENT
DTSTART;TZID=America/Toronto:20240801T190000
DTEND;TZID=America/Toronto:20240801T200000
DTSTAMP:20260419T143709
CREATED:20240728T195035Z
LAST-MODIFIED:20240728T195211Z
UID:3387-1722538800-1722542400@ttrministries.ca
SUMMARY:Bible Exploration and Prayer with Pastor Joe
DESCRIPTION:Bible Exploration and Prayer with Pastor Joe at TTR \nWednesday nights at 7:00 pm \nCome and enjoy this informal time of sharing the Word of God and friendship with some amazing people!
URL:https://ttrministries.ca/event/bible-exploration-and-prayer-with-pastor-joe-2/
LOCATION:Through The Roof Ministries\, 3662 Flinton Road\, Flinton\, Ontario\, K0H 1P0\, Canada
CATEGORIES:Bible Exploration
ATTACH;FMTTYPE=image/jpeg:https://ttrministries.ca/wp-content/uploads/2022/02/Bible.jpg
ORGANIZER;CN="Pastor Joe":MAILTO:revjoseph.jdj@gmail.com
END:VEVENT
END:VCALENDAR