BEGIN:VCALENDAR
VERSION:2.0
PRODID:-//Through The Roof Ministries - ECPv6.15.11//NONSGML v1.0//EN
CALSCALE:GREGORIAN
METHOD:PUBLISH
X-ORIGINAL-URL:https://ttrministries.ca
X-WR-CALDESC:Events for Through The Roof Ministries
REFRESH-INTERVAL;VALUE=DURATION:PT1H
X-Robots-Tag:noindex
X-PUBLISHED-TTL:PT1H
BEGIN:VTIMEZONE
TZID:America/Toronto
BEGIN:DAYLIGHT
TZOFFSETFROM:-0500
TZOFFSETTO:-0400
TZNAME:EDT
DTSTART:20230312T070000
END:DAYLIGHT
BEGIN:STANDARD
TZOFFSETFROM:-0400
TZOFFSETTO:-0500
TZNAME:EST
DTSTART:20231105T060000
END:STANDARD
BEGIN:DAYLIGHT
TZOFFSETFROM:-0500
TZOFFSETTO:-0400
TZNAME:EDT
DTSTART:20240310T070000
END:DAYLIGHT
BEGIN:STANDARD
TZOFFSETFROM:-0400
TZOFFSETTO:-0500
TZNAME:EST
DTSTART:20241103T060000
END:STANDARD
BEGIN:DAYLIGHT
TZOFFSETFROM:-0500
TZOFFSETTO:-0400
TZNAME:EDT
DTSTART:20250309T070000
END:DAYLIGHT
BEGIN:STANDARD
TZOFFSETFROM:-0400
TZOFFSETTO:-0500
TZNAME:EST
DTSTART:20251102T060000
END:STANDARD
BEGIN:DAYLIGHT
TZOFFSETFROM:-0500
TZOFFSETTO:-0400
TZNAME:EDT
DTSTART:20260308T070000
END:DAYLIGHT
BEGIN:STANDARD
TZOFFSETFROM:-0400
TZOFFSETTO:-0500
TZNAME:EST
DTSTART:20261101T060000
END:STANDARD
END:VTIMEZONE
BEGIN:VEVENT
DTSTART;TZID=America/Toronto:20250928T103000
DTEND;TZID=America/Toronto:20250928T120000
DTSTAMP:20260424T051327
CREATED:20250905T191454Z
LAST-MODIFIED:20250907T010851Z
UID:3765-1759055400-1759060800@ttrministries.ca
SUMMARY:TREVOR BAKER IN CONCERT Sept. 28 Sunday Morning 10:30 am
DESCRIPTION:Come and bring a friend!
URL:https://ttrministries.ca/event/mens-coffee-club-9/
LOCATION:Through The Roof Ministries\, 3662 Flinton Road\, Flinton\, Ontario\, K0H 1P0\, Canada
CATEGORIES:Community,Special Events,Sunday Service
ATTACH;FMTTYPE=image/jpeg:https://ttrministries.ca/wp-content/uploads/2025/09/TREVOR-BAKER-GOOD-scaled.jpeg
ORGANIZER;CN="Pastor Joe":MAILTO:revjoseph.jdj@gmail.com
END:VEVENT
BEGIN:VEVENT
DTSTART;TZID=America/Toronto:20240929T103000
DTEND;TZID=America/Toronto:20240929T113000
DTSTAMP:20260424T051327
CREATED:20240729T190928Z
LAST-MODIFIED:20240729T190928Z
UID:3758-1727605800-1727609400@ttrministries.ca
SUMMARY:Sunday Service
DESCRIPTION:We are pleased to announce that Services are now at 10:30 am. \nWe at Through the Roof Ministry Centre in Flinton look forward to having you join us for a time of worship and a faith-building message! \nCome expecting a miracle. For we serve a living God who hears and answers the prayer’s of His people!
URL:https://ttrministries.ca/event/sunday-service-9/
LOCATION:Through The Roof Ministries\, 3662 Flinton Road\, Flinton\, Ontario\, K0H 1P0\, Canada
CATEGORIES:Sunday Service
ATTACH;FMTTYPE=image/jpeg:https://ttrministries.ca/wp-content/uploads/2021/02/66955-woman-praying-cross-gettyimages-tinnakorn-jor.jpg
ORGANIZER;CN="Pastor Joe":MAILTO:revjoseph.jdj@gmail.com
END:VEVENT
BEGIN:VEVENT
DTSTART;TZID=America/Toronto:20240922T103000
DTEND;TZID=America/Toronto:20240922T113000
DTSTAMP:20260424T051327
CREATED:20240729T190923Z
LAST-MODIFIED:20250219T201129Z
UID:3757-1727001000-1727004600@ttrministries.ca
SUMMARY:Sunday Service
DESCRIPTION:We are pleased to announce that Services are now at 10:30 am. \nWe at Through the Roof Ministry Centre in Flinton look forward to having you join us for a time of worship and a faith-building message! \nCome expecting a miracle. For we serve a living God who hears and answers the prayer’s of His people!
URL:https://ttrministries.ca/event/sunday-service-8/
LOCATION:Through The Roof Ministries\, 3662 Flinton Road\, Flinton\, Ontario\, K0H 1P0\, Canada
CATEGORIES:Sunday Service
ATTACH;FMTTYPE=image/jpeg:https://ttrministries.ca/wp-content/uploads/2021/02/66955-woman-praying-cross-gettyimages-tinnakorn-jor.jpg
ORGANIZER;CN="Pastor Joe":MAILTO:revjoseph.jdj@gmail.com
END:VEVENT
BEGIN:VEVENT
DTSTART;TZID=America/Toronto:20240915T103000
DTEND;TZID=America/Toronto:20240915T113000
DTSTAMP:20260424T051327
CREATED:20240729T190900Z
LAST-MODIFIED:20240729T190900Z
UID:3745-1726396200-1726399800@ttrministries.ca
SUMMARY:Sunday Service
DESCRIPTION:We are pleased to announce that Services are now at 10:30 am. \nWe at Through the Roof Ministry Centre in Flinton look forward to having you join us for a time of worship and a faith-building message! \nCome expecting a miracle. For we serve a living God who hears and answers the prayer’s of His people!
URL:https://ttrministries.ca/event/sunday-service-7/
LOCATION:Through The Roof Ministries\, 3662 Flinton Road\, Flinton\, Ontario\, K0H 1P0\, Canada
CATEGORIES:Sunday Service
ATTACH;FMTTYPE=image/jpeg:https://ttrministries.ca/wp-content/uploads/2021/02/66955-woman-praying-cross-gettyimages-tinnakorn-jor.jpg
ORGANIZER;CN="Pastor Joe":MAILTO:revjoseph.jdj@gmail.com
END:VEVENT
BEGIN:VEVENT
DTSTART;TZID=America/Toronto:20240908T103000
DTEND;TZID=America/Toronto:20240908T113000
DTSTAMP:20260424T051327
CREATED:20240729T190856Z
LAST-MODIFIED:20240729T190856Z
UID:3746-1725791400-1725795000@ttrministries.ca
SUMMARY:Sunday Service
DESCRIPTION:We are pleased to announce that Services are now at 10:30 am. \nWe at Through the Roof Ministry Centre in Flinton look forward to having you join us for a time of worship and a faith-building message! \nCome expecting a miracle. For we serve a living God who hears and answers the prayer’s of His people!
URL:https://ttrministries.ca/event/sunday-service-6/
LOCATION:Through The Roof Ministries\, 3662 Flinton Road\, Flinton\, Ontario\, K0H 1P0\, Canada
CATEGORIES:Sunday Service
ATTACH;FMTTYPE=image/jpeg:https://ttrministries.ca/wp-content/uploads/2021/02/66955-woman-praying-cross-gettyimages-tinnakorn-jor.jpg
ORGANIZER;CN="Pastor Joe":MAILTO:revjoseph.jdj@gmail.com
END:VEVENT
BEGIN:VEVENT
DTSTART;TZID=America/Toronto:20240901T103000
DTEND;TZID=America/Toronto:20240901T113000
DTSTAMP:20260424T051327
CREATED:20240729T190851Z
LAST-MODIFIED:20240729T190851Z
UID:3747-1725186600-1725190200@ttrministries.ca
SUMMARY:Sunday Service
DESCRIPTION:We are pleased to announce that Services are now at 10:30 am. \nWe at Through the Roof Ministry Centre in Flinton look forward to having you join us for a time of worship and a faith-building message! \nCome expecting a miracle. For we serve a living God who hears and answers the prayer’s of His people!
URL:https://ttrministries.ca/event/sunday-service-5/
LOCATION:Through The Roof Ministries\, 3662 Flinton Road\, Flinton\, Ontario\, K0H 1P0\, Canada
CATEGORIES:Sunday Service
ATTACH;FMTTYPE=image/jpeg:https://ttrministries.ca/wp-content/uploads/2021/02/66955-woman-praying-cross-gettyimages-tinnakorn-jor.jpg
ORGANIZER;CN="Pastor Joe":MAILTO:revjoseph.jdj@gmail.com
END:VEVENT
BEGIN:VEVENT
DTSTART;TZID=America/Toronto:20240825T103000
DTEND;TZID=America/Toronto:20240825T113000
DTSTAMP:20260424T051327
CREATED:20240729T190845Z
LAST-MODIFIED:20240729T190845Z
UID:3748-1724581800-1724585400@ttrministries.ca
SUMMARY:Sunday Service
DESCRIPTION:We are pleased to announce that Services are now at 10:30 am. \nWe at Through the Roof Ministry Centre in Flinton look forward to having you join us for a time of worship and a faith-building message! \nCome expecting a miracle. For we serve a living God who hears and answers the prayer’s of His people!
URL:https://ttrministries.ca/event/sunday-service-4/
LOCATION:Through The Roof Ministries\, 3662 Flinton Road\, Flinton\, Ontario\, K0H 1P0\, Canada
CATEGORIES:Sunday Service
ATTACH;FMTTYPE=image/jpeg:https://ttrministries.ca/wp-content/uploads/2021/02/66955-woman-praying-cross-gettyimages-tinnakorn-jor.jpg
ORGANIZER;CN="Pastor Joe":MAILTO:revjoseph.jdj@gmail.com
END:VEVENT
BEGIN:VEVENT
DTSTART;TZID=America/Toronto:20240818T103000
DTEND;TZID=America/Toronto:20240818T113000
DTSTAMP:20260424T051327
CREATED:20240729T190841Z
LAST-MODIFIED:20240729T190841Z
UID:3749-1723977000-1723980600@ttrministries.ca
SUMMARY:Sunday Service
DESCRIPTION:We are pleased to announce that Services are now at 10:30 am. \nWe at Through the Roof Ministry Centre in Flinton look forward to having you join us for a time of worship and a faith-building message! \nCome expecting a miracle. For we serve a living God who hears and answers the prayer’s of His people!
URL:https://ttrministries.ca/event/sunday-service-3/
LOCATION:Through The Roof Ministries\, 3662 Flinton Road\, Flinton\, Ontario\, K0H 1P0\, Canada
CATEGORIES:Sunday Service
ATTACH;FMTTYPE=image/jpeg:https://ttrministries.ca/wp-content/uploads/2021/02/66955-woman-praying-cross-gettyimages-tinnakorn-jor.jpg
ORGANIZER;CN="Pastor Joe":MAILTO:revjoseph.jdj@gmail.com
END:VEVENT
BEGIN:VEVENT
DTSTART;TZID=America/Toronto:20240811T103000
DTEND;TZID=America/Toronto:20240811T113000
DTSTAMP:20260424T051327
CREATED:20240729T190836Z
LAST-MODIFIED:20240729T190836Z
UID:3750-1723372200-1723375800@ttrministries.ca
SUMMARY:Sunday Service
DESCRIPTION:We are pleased to announce that Services are now at 10:30 am. \nWe at Through the Roof Ministry Centre in Flinton look forward to having you join us for a time of worship and a faith-building message! \nCome expecting a miracle. For we serve a living God who hears and answers the prayer’s of His people!
URL:https://ttrministries.ca/event/sunday-service-2/
LOCATION:Through The Roof Ministries\, 3662 Flinton Road\, Flinton\, Ontario\, K0H 1P0\, Canada
CATEGORIES:Sunday Service
ATTACH;FMTTYPE=image/jpeg:https://ttrministries.ca/wp-content/uploads/2021/02/66955-woman-praying-cross-gettyimages-tinnakorn-jor.jpg
ORGANIZER;CN="Pastor Joe":MAILTO:revjoseph.jdj@gmail.com
END:VEVENT
BEGIN:VEVENT
DTSTART;TZID=America/Toronto:20240804T103000
DTEND;TZID=America/Toronto:20240804T113000
DTSTAMP:20260424T051327
CREATED:20240729T190716Z
LAST-MODIFIED:20240729T190753Z
UID:3741-1722767400-1722771000@ttrministries.ca
SUMMARY:Sunday Service
DESCRIPTION:We are pleased to announce that Services are now at 10:30 am. \nWe at Through the Roof Ministry Centre in Flinton look forward to having you join us for a time of worship and a faith-building message! \nCome expecting a miracle. For we serve a living God who hears and answers the prayer’s of His people!
URL:https://ttrministries.ca/event/sunday-service/
LOCATION:Through The Roof Ministries\, 3662 Flinton Road\, Flinton\, Ontario\, K0H 1P0\, Canada
CATEGORIES:Sunday Service
ATTACH;FMTTYPE=image/jpeg:https://ttrministries.ca/wp-content/uploads/2021/02/66955-woman-praying-cross-gettyimages-tinnakorn-jor.jpg
ORGANIZER;CN="Pastor Joe":MAILTO:revjoseph.jdj@gmail.com
END:VEVENT
END:VCALENDAR